BEGIN:VCALENDAR
VERSION:2.0
PRODID:-//ChamberMaster//Event Calendar 2.0//EN
METHOD:PUBLISH
X-PUBLISHED-TTL:P3D
REFRESH-INTERVAL:P3D
CALSCALE:GREGORIAN
BEGIN:VEVENT
DTSTART:20260416T170000Z
DTEND:20260416T190000Z
X-MICROSOFT-CDO-ALLDAYEVENT:FALSE
SUMMARY:Walla Walla Valley Spring Hiring Event
DESCRIPTION:Employers from a variety of industries\, including hotels\, grocery stores\, career services\, labor\, government\, education\, banking\, and caregiving are all looking to hire! It's a great opportunity to meet recruiters\, explore job openings\, and make valuable connections. Bring your resume.
X-ALT-DESC;FMTTYPE=text/html:Employers from a variety of industries\, including hotels\, grocery stores\, career services\, labor\, government\, education\, banking\, and caregiving are all looking to hire! It&rsquo\;s a great opportunity to meet recruiters\, explore job openings\, and make valuable connections. Bring your resume.
LOCATION:Goodwill Employment Connection Center
UID:e.65.21944
SEQUENCE:3
DTSTAMP:20260425T160824Z
URL:https://business.wwvchamber.com/events/details/walla-walla-valley-spring-hiring-event-21944
END:VEVENT

END:VCALENDAR
