BEGIN:VCALENDAR
VERSION:2.0
PRODID:-//ChamberMaster//Event Calendar 2.0//EN
METHOD:PUBLISH
X-PUBLISHED-TTL:P3D
REFRESH-INTERVAL:P3D
CALSCALE:GREGORIAN
BEGIN:VEVENT
DTSTART;VALUE=DATE:20140617
DTEND;VALUE=DATE:20140712
TRANSP:TRANSPARENT
X-MICROSOFT-CDO-ALLDAYEVENT:TRUE
SUMMARY:We're celebrating our GRAND OPENING with an IPAD GIVEAWAY!
DESCRIPTION:We're celebrating our GRAND OPENING with an IPAD GIVEAWAY!\n\nTo enter draw a picture of your favorite find in Walla Walla and send it to Dr. Stacey.  It could be a person\, place\, thing\, park\, animal\, parent\, ANYTHING that makes you SMILE! Drawing will take place during our GRAND OPENING/OPEN HOUSE.  July 11\, 2014 from 4:00-6:00 to be exact.\n\nFor complete details go to our website www.wallakids.com and for a larger entry.\n\nWINNER receives a mini IPAD and an IPAD for mom or DAD!!!\n\nEntries can be dropped off at our office which is NOW OPEN and SCHEDULING new patients!\n\n(509) 522-0555
X-ALT-DESC;FMTTYPE=text/html:<strong>We&#39\;re celebrating our GRAND OPENING with an IPAD GIVEAWAY!</strong>\n\n<p class="MsoPlainText"><span style="line-height: 1.6\;">To enter draw a picture of your favorite find in Walla Walla and send it to Dr. Stacey.&nbsp\; It could be a person\, place\, thing\, park\, animal\, parent\, ANYTHING that makes you SMILE! Drawing will take place during our GRAND OPENING/OPEN HOUSE.&nbsp\; July 11\, 2014 from 4:00-6:00 to be exact.</span></p>\n\n<p class="MsoPlainText">For complete details go to our website <a href="http://www.wallakids.com">www.wallakids.com</a> and for a larger entry.<br />\n<span style="line-height: 1.6\;">WINNER receives a mini IPAD and an IPAD for mom or DAD!!!</span></p>\n\n<p class="MsoPlainText"><span style="line-height: 1.6\;">Entries can be dropped off at our office which is NOW OPEN and SCHEDULING new patients!</span></p>\n\n<p class="MsoPlainText"><span style="line-height: 1.6\;">(509) 522-0555</span></p>\n\n<p class="MsoPlainText"><o:p>&nbsp\;</o:p></p>\n
LOCATION:Walla Walla Pediatric Dentistry 614 East Alder Street\, Suite 6 Walla Walla\, WA 99362 509-522-0555
UID:e.65.1813
SEQUENCE:3
DTSTAMP:20260421T191044Z
URL:https://business.wwvchamber.com/events/details/we-re-celebrating-our-grand-opening-with-an-ipad-giveaway-06-17-2014-1813
END:VEVENT

END:VCALENDAR
