BEGIN:VCALENDAR
VERSION:2.0
PRODID:-//ChamberMaster//Event Calendar 2.0//EN
METHOD:PUBLISH
X-PUBLISHED-TTL:P3D
REFRESH-INTERVAL:P3D
CALSCALE:GREGORIAN
BEGIN:VEVENT
DTSTART:20140803T010000Z
DTEND:20140803T040000Z
X-MICROSOFT-CDO-ALLDAYEVENT:FALSE
SUMMARY:What the truck?
DESCRIPTION:Summer party fun at Amavi Cellars! Join us as we welcome local food trucks\, and Gary Winston and the Real Deal for an evening of wine\, food\, and dancing under the stars! Call for pricing details.
X-ALT-DESC;FMTTYPE=text/html:Summer party fun at Amavi Cellars! Join us as we welcome local food trucks\, and Gary Winston and the Real Deal for an evening of wine\, food\, and dancing under the stars! Call for pricing details.
LOCATION:3796 Peppers Bridge Road Walla Walla\, WA 99362
UID:e.65.1859
SEQUENCE:3
DTSTAMP:20260421T172118Z
URL:https://business.wwvchamber.com/events/details/what-the-truck-08-02-2014-1859
END:VEVENT

END:VCALENDAR
