BEGIN:VCALENDAR
VERSION:2.0
PRODID:-//ChamberMaster//Event Calendar 2.0//EN
METHOD:PUBLISH
X-PUBLISHED-TTL:P3D
REFRESH-INTERVAL:P3D
CALSCALE:GREGORIAN
BEGIN:VEVENT
DTSTART;VALUE=DATE:20140815
DTEND;VALUE=DATE:20140816
TRANSP:TRANSPARENT
X-MICROSOFT-CDO-ALLDAYEVENT:TRUE
SUMMARY:Wild Alaskan Salmon Barbecue Dinner- (11th Annual benefit Sr CtrMeals on Wheels)
DESCRIPTION:Our 11th annual Wild Alaskan Salmon Dinner will be held Friday\, August 15\, here at Walla Walla Senior Citizens Center/ The Center at the Park\, 720 Sprague St. at Jefferson Park. Come treat yourself to a delicious dinner\, support your home town neighbors\, and a worthy cause\, the Senior Round Table Meals-on-Wheels program.\n\nAgain\, we will have a full meal\, featuring that beautiful wild caught red salmon from the cold waters of Bristol Bay\, Alaska and grilled here outdoors. This is wild caught\, not caged\, no colors or additives. Plus\, the meal includes a delicious healthy three variety baked bean dish\, corn\, French bread\, a healthy salad bar\, punch\, and sherbet for dessert. Light music will accompany your dinner. Many volunteers will be on hand to make your dining experience a smooth one.\n\nIn addition\, Local wines will be available for purchase\, a beautiful compliment to your Wild Salmon Dinner.\n\nCome anytime 4:30-7:00 pm\, but due to the popularity of our Wild Salmon Dinner\, we suggest you voluntarily choose either an "early seating"- (4:30-6:00 pm) or a "late seating"- (6:00-7:00 pm). This will help us make room for everyone who wants to have a wild caught salmon dinner\, here in air conditioned comfort.\n\nWe will raffle beautiful gift baskets too. Someone is going to get lucky\, and it might as well be you\, the odds are good! Lots of fun! \n\nThe price for the Wild Alaskan Salmon Dinner is $20 in advance or at the door that night. \n\nNow where else can you get such a good deal? \n\nHere's a thought: Call us to purchase your tickets. Our receptionist can take your credit card over the phone here\, 527-3775. Then pick up your reserved tickets and receipt at the door that night. Easy!
X-ALT-DESC;FMTTYPE=text/html:<p><font face="Times New Roman"><b><span style="mso-fareast-font-family: &quot\;Times New Roman&quot\;\; mso-font-kerning: 14.0pt\; mso-contextual-alternates: yes\;"><font color="#000000" size="3">O</font></span></b><span style="mso-fareast-font-family: &quot\;Times New Roman&quot\;\; mso-font-kerning: 14.0pt\; mso-contextual-alternates: yes\;"><font color="#000000" size="3">ur </font><b><font color="#000000" size="3">11th annual Wild Alaskan Salmon Dinner </font></b><font color="#000000" size="3">will be held Friday\, August 15\, here at Walla Walla Senior Citizens Center/ The Center at the Park\, 720 Sprague St. at Jefferson Park. </font></span><font color="#000000" size="3">Come treat yourself to a delicious dinner\, support your home town neighbors\, and a worthy cause\, the Senior Round Table Meals-on-Wheels program.</font></font></p>\n\n<p><span style="mso-fareast-font-family: &quot\;Times New Roman&quot\;\; mso-font-kerning: 14.0pt\; mso-contextual-alternates: yes\;"><font face="Times New Roman"><font color="#000000" size="3">Again\, we will have a </font><b><font color="#000000" size="3">full meal</font></b><font color="#000000" size="3">\, featuring that beautiful wild caught red salmon from the cold waters of Bristol Bay\, Alaska and grilled here outdoors. This is </font><b><font color="#000000" size="3">wild caught\, </font></b><b style="mso-bidi-font-weight: normal\;"><font color="#000000" size="3">not caged\, no colors or additives</font></b><font color="#000000" size="3">. Plus\, the meal includes a delicious healthy three variety baked bean dish\, corn\, French bread\, a healthy salad bar\, punch\, and sherbet for dessert. </font><b><font color="#000000" size="3">Light music </font></b><font color="#000000" size="3">will accompany your dinner. Many volunteers will be on hand to make your dining experience a smooth one.</font></font></span></p>\n\n<p><span style="mso-fareast-font-family: &quot\;Times New Roman&quot\;\; mso-font-kerning: 14.0pt\; mso-contextual-alternates: yes\;"><font face="Times New Roman"><font color="#000000" size="3">In addition\, </font><b style="mso-bidi-font-weight: normal\;"><font color="#000000" size="3">Local </font><span style="mso-bidi-font-weight: bold\;"><font color="#000000" size="3">wines</font></span></b><font color="#000000" size="3"> will be available for purchase\, a beautiful compliment to your Wild Salmon Dinner.</font></font></span></p>\n\n<p><span style="color: black\; font-family: &quot\;Times New Roman&quot\;\,&quot\;serif&quot\;\; font-size: 12pt\; mso-fareast-font-family: &quot\;Times New Roman&quot\;\; mso-font-kerning: 14.0pt\; mso-contextual-alternates: yes\;">Come anytime 4:30-7:00 pm\, but due to the popularity of our Wild Salmon Dinner\, we suggest you voluntarily choose either an &ldquo\;early seating&rdquo\;- (4:30-6:00 pm) or a &ldquo\;late seating&rdquo\;- (6:00-7:00 pm). This will help us make room for everyone who wants to have a wild caught salmon dinner\, here in <b>air conditioned comfort</b>.</span></p>\n\n<p><span style="color: black\; font-family: &quot\;Times New Roman&quot\;\,&quot\;serif&quot\;\; font-size: 12pt\; mso-fareast-font-family: &quot\;Times New Roman&quot\;\; mso-font-kerning: 14.0pt\; mso-contextual-alternates: yes\;">We will <b>raffle</b> beautiful gift baskets too. <span style="mso-bidi-font-weight: bold\;">Someone is going to get lucky\, and it might as well be you\, the odds are good!<b> </b></span>Lots of fun! </span></p>\n\n<p><span style="color: black\; font-family: &quot\;Times New Roman&quot\;\,&quot\;serif&quot\;\; font-size: 12pt\; mso-fareast-font-family: &quot\;Times New Roman&quot\;\; mso-font-kerning: 14.0pt\; mso-contextual-alternates: yes\;">The price for the Wild Alaskan Salmon Dinner is $20 in advance or at the door that night. </span></p>\n\n<p><span style="color: black\; font-family: &quot\;Times New Roman&quot\;\,&quot\;serif&quot\;\; font-size: 12pt\; mso-fareast-font-family: &quot\;Times New Roman&quot\;\; mso-font-kerning: 14.0pt\; mso-contextual-alternates: yes\;">Now where else can you get such a good deal? </span></p>\n\n<p><span style="color: black\; font-family: &quot\;Times New Roman&quot\;\,&quot\;serif&quot\;\; font-size: 12pt\; mso-fareast-font-family: &quot\;Times New Roman&quot\;\; mso-font-kerning: 14.0pt\; mso-contextual-alternates: yes\;">Here&rsquo\;s a thought: Call us to purchase your tickets. Our receptionist can take your <b>credit card </b>over the phone here\, 527-3775. Then pick up your reserved tickets and receipt at the door that night. Easy! </span></p>\n\n<p>&nbsp\;</p>\n
LOCATION:Walla Walla Senior Citizens Center (d.b.a. The Center at the Park)
UID:e.65.1854
SEQUENCE:3
DTSTAMP:20260421T161143Z
URL:https://business.wwvchamber.com/events/details/wild-alaskan-salmon-barbecue-dinner-11th-annual-benefit-sr-ctrmeals-on-wheels-08-15-2014-1854
END:VEVENT

END:VCALENDAR
