BEGIN:VCALENDAR
VERSION:2.0
PRODID:-//ChamberMaster//Event Calendar 2.0//EN
METHOD:PUBLISH
X-PUBLISHED-TTL:P3D
REFRESH-INTERVAL:P3D
CALSCALE:GREGORIAN
BEGIN:VEVENT
DTSTART:20140809T203000Z
DTEND:20140809T220000Z
X-MICROSOFT-CDO-ALLDAYEVENT:FALSE
SUMMARY:Wine & Cheese Pairing with Forgeron Cellars & Cheese Louise!
DESCRIPTION:Grab your friends & join the Forgeron Cellars Cru in our Barrel Room for a fantastic afternoon of Wine & Cheese pairing with Cheese Louise! Discover how deliciously & unexpectedly Marie-Eve?s wines can be paired with a variety of local\, domestic & international cheeses\, selected just for this event! As bonus\, ALL the cheeses tasted & paired that day will be available to purchase & take home! ONLY $15 - Reservations are required & space is limited\, so reserve your spot by calling the Winery @ 509.522.9463 to reserve your spot TODAY!
X-ALT-DESC;FMTTYPE=text/html:Grab your friends &amp\; join the Forgeron Cellars Cru in our Barrel Room for a fantastic afternoon of Wine &amp\; Cheese pairing with Cheese Louise! Discover how deliciously &amp\; unexpectedly Marie-Eve?s wines can be paired with a variety of local\, domestic &amp\; international cheeses\, selected just for this event! As bonus\, ALL the cheeses tasted &amp\; paired that day will be available to purchase &amp\; take home! ONLY $15 - Reservations are required &amp\; space is limited\, so reserve your spot by calling the Winery @ 509.522.9463 to reserve your spot TODAY!
LOCATION:The Barrel Room @ Forgeron Cellars Winery & Tasting Room - 33 W Birch St\, Walla Walla WA 99362
UID:e.65.1856
SEQUENCE:3
DTSTAMP:20260421T160956Z
URL:https://business.wwvchamber.com/events/details/wine-cheese-pairing-with-forgeron-cellars-cheese-louise-08-09-2014-1856
END:VEVENT

END:VCALENDAR
