BEGIN:VCALENDAR
VERSION:2.0
PRODID:-//ChamberMaster//Event Calendar 2.0//EN
METHOD:PUBLISH
X-PUBLISHED-TTL:P3D
REFRESH-INTERVAL:P3D
CALSCALE:GREGORIAN
BEGIN:VEVENT
DTSTART:20240818T170000Z
DTEND:20240818T190000Z
X-MICROSOFT-CDO-ALLDAYEVENT:FALSE
SUMMARY:Wine Country Brunch!
DESCRIPTION:WINE COUNTRY BRUNCH Featuring Chef Gregory Schnorr -Menu- House-cured Bacon & Walla Walla Cheese Co. Gouda Stratta Warrior Acres Vegetarian Stratta Walla Walla Roasted Sweet Onion and Red Potato Hash Minted Local Orchard & Melon Fruit Salad Coffee & our never-ending Mimosas!
X-ALT-DESC;FMTTYPE=text/html:WINE COUNTRY BRUNCH Featuring Chef Gregory Schnorr -Menu- House-cured Bacon &amp\; Walla Walla Cheese Co. Gouda Stratta Warrior Acres Vegetarian Stratta Walla Walla Roasted Sweet Onion and Red Potato Hash Minted Local Orchard &amp\; Melon Fruit Salad Coffee &amp\; our never-ending Mimosas!
LOCATION:Dunham Cellars 150 East Boeing Ave Walla Walla\, WA 99362
UID:e.65.20130
SEQUENCE:3
DTSTAMP:20260425T225404Z
URL:https://business.wwvchamber.com/events/details/wine-country-brunch-20130
END:VEVENT

END:VCALENDAR
