BEGIN:VCALENDAR
VERSION:2.0
PRODID:-//ChamberMaster//Event Calendar 2.0//EN
METHOD:PUBLISH
X-PUBLISHED-TTL:P3D
REFRESH-INTERVAL:P3D
CALSCALE:GREGORIAN
BEGIN:VEVENT
DTSTART:20140601T200000Z
DTEND:20140602T013000Z
X-MICROSOFT-CDO-ALLDAYEVENT:FALSE
SUMMARY:WWGH Babysitting Class
DESCRIPTION:Walla Walla General Hospital offering a babysitting class\, a course designed to provide beginning babysitters with advice and tips for caring for kids of all ages. Includes CPR and first aid certifcation. A light snack is provided.
X-ALT-DESC;FMTTYPE=text/html:Walla Walla General Hospital offering a babysitting class\, a course&nbsp\;designed&nbsp\;to provide beginning&nbsp\;babysitters with advice&nbsp\;and tips for caring for&nbsp\;kids of all ages.&nbsp\;Includes&nbsp\;CPR and first aid&nbsp\;certifcation. A light&nbsp\;snack is provided.
LOCATION:Walla Walla General Hospital
UID:e.65.1650
SEQUENCE:3
DTSTAMP:20260421T194513Z
URL:https://business.wwvchamber.com/events/details/wwgh-babysitting-class-06-01-2014-1650
END:VEVENT

END:VCALENDAR
