BEGIN:VCALENDAR
VERSION:2.0
PRODID:-//ChamberMaster//Event Calendar 2.0//EN
METHOD:PUBLISH
X-PUBLISHED-TTL:P3D
REFRESH-INTERVAL:P3D
CALSCALE:GREGORIAN
BEGIN:VEVENT
DTSTART:20140629T013000Z
DTEND:20140629T030000Z
X-MICROSOFT-CDO-ALLDAYEVENT:FALSE
SUMMARY:WWSRG Bout @ YMCA
DESCRIPTION:Come watch the Walla Walla Sweets Rollergirls take in the Taco Kickers of Everett\, WA. Event is family friendly and memorable! Tickets are $8 in advance\, sold at the YMCA\, Book & Game and at the Tourism Walla Walla Main St. info booth or $10 at the door. Doors open at 5:30 pm\, bout starts at 6:30pm.
X-ALT-DESC;FMTTYPE=text/html:Come watch the Walla Walla Sweets Rollergirls take in the Taco Kickers of Everett\, WA. Event is family friendly and memorable! Tickets are $8 in advance\, sold at the YMCA\, Book &amp\; Game and at the Tourism Walla Walla Main St. info booth or $10 at the door. Doors open at 5:30 pm\, bout starts at 6:30pm.
LOCATION:WW YMCA\, 350 S Park St\, WW
UID:e.65.1775
SEQUENCE:3
DTSTAMP:20260421T194513Z
URL:https://business.wwvchamber.com/events/details/wwsrg-bout-ymca-06-28-2014-1775
END:VEVENT

END:VCALENDAR
