BEGIN:VCALENDAR
VERSION:2.0
PRODID:-//ChamberMaster//Event Calendar 2.0//EN
METHOD:PUBLISH
X-PUBLISHED-TTL:P3D
REFRESH-INTERVAL:P3D
CALSCALE:GREGORIAN
BEGIN:VEVENT
DTSTART:20141213T170000Z
DTEND:20141214T010000Z
X-MICROSOFT-CDO-ALLDAYEVENT:FALSE
SUMMARY:WWVFM - Holiday Market
DESCRIPTION:Visit us in the comfort of a nice warm building\, out of the elements.\n\nHandcrafted items from local & regional vendors. \n\nGreat for gifts for the holiday's or treat yourself to something special!!
X-ALT-DESC;FMTTYPE=text/html:<br />\nVisit us in the comfort of a nice warm building\, out of the elements.<br />\nHandcrafted items from local &amp\; regional vendors.&nbsp\;<br />\nGreat for gifts for the holiday&#39\;s or treat yourself to something special!!
LOCATION:Walla Walla County Fairgrounds Community Bldg
UID:e.65.2268
SEQUENCE:3
DTSTAMP:20260421T090508Z
URL:https://business.wwvchamber.com/events/details/wwvfm-holiday-market-12-13-2014-2268
END:VEVENT

END:VCALENDAR
