BEGIN:VCALENDAR
VERSION:2.0
PRODID:-//ChamberMaster//Event Calendar 2.0//EN
METHOD:PUBLISH
X-PUBLISHED-TTL:P3D
REFRESH-INTERVAL:P3D
CALSCALE:GREGORIAN
BEGIN:VEVENT
DTSTART:20210625T070000Z
DTEND:20210625T070000Z
X-MICROSOFT-CDO-ALLDAYEVENT:FALSE
SUMMARY:Yoga in the Park\, Washington Park
DESCRIPTION:How often do you downshift or just relax? Spending downtime with your friends and family is an important way to improve your overall health. Downshifting\, maintaining social connections\, and moving naturally are all fantastic ways to maintain a healthy lifestyle.\n\nJoin us for a gentle yoga session at Washington Park. Bring your friends\, family\, and a mat or towel - it's free!\n\n\n\nRegister Now!
X-ALT-DESC;FMTTYPE=text/html:<p>How often do you downshift or just relax? Spending downtime with your friends and family is an important way to improve your overall health. Downshifting\, maintaining social connections\, and moving naturally are all fantastic ways to maintain a healthy lifestyle.</p>\n\n<p>Join us for a gentle yoga session at Washington Park. Bring your friends\, family\, and a mat or towel - it&#39\;s free!<br />\n<br />\n<a href="https://www.eventbrite.com/e/yoga-in-the-park-tickets-151879073397?__hstc=114586392.47202870be49ceacd75f69669897202d.1606767323847.1621633083955.1622040949883.61&amp\;__hsfp=959771519&amp\;__hssc=114586392.1.1622044698114&amp\;hsCtaTracking=0abbc34e-de9a-4b69-bc16-1a4f1fd05919%7C5d28e119-5ee8-4162-b2d3-1179568c3178">Register Now!</a></p>\n
LOCATION:Washington Park\, 700 W. Cherry St. Walla Walla\, WA 99362
UID:e.65.17285
SEQUENCE:3
DTSTAMP:20260421T104821Z
URL:https://business.wwvchamber.com/events/details/yoga-in-the-park-washington-park-17285
END:VEVENT

END:VCALENDAR
