BEGIN:VCALENDAR
VERSION:2.0
PRODID:-//ChamberMaster//Event Calendar 2.0//EN
METHOD:PUBLISH
X-PUBLISHED-TTL:P3D
REFRESH-INTERVAL:P3D
CALSCALE:GREGORIAN
BEGIN:VEVENT
DTSTART:20140711T230000Z
DTEND:20140712T010000Z
X-MICROSOFT-CDO-ALLDAYEVENT:FALSE
SUMMARY:You're invited to our GRAND OPENING! FREE Food\, Fun\, prizes\, and Games!
DESCRIPTION:COME JOIN US TO...\n\n\n\n~Meet Dr. Stacey Kutsch DDS\n\n~Tour our office\n\n~Photo with twinkles the tooth fair\n\n~Enjoy food and refreshments\n\n~Play fun games with the kids\n\n~Win fun prizes\n\n~Winners of the Ipads will be announced\n\n\n\nFeel free to invite your friends and family!
X-ALT-DESC;FMTTYPE=text/html:COME JOIN US TO...<br />\n<br />\n~Meet Dr. Stacey Kutsch DDS<br />\n~Tour our office<br />\n~Photo with twinkles the tooth fair<br />\n~Enjoy food and refreshments<br />\n~Play fun games with the kids<br />\n~Win fun prizes<br />\n~Winners of the Ipads will be&nbsp\;announced<br />\n<br />\nFeel free to invite your friends and family!
LOCATION:Walla Walla Pediatric Dentistry 614 E Alder St Suite 6 Walla Walla\, WA 99362
UID:e.65.1779
SEQUENCE:3
DTSTAMP:20260421T180916Z
URL:https://business.wwvchamber.com/events/details/you-re-invited-to-our-grand-opening-free-food-fun-prizes-and-games-07-11-2014-1779
END:VEVENT

END:VCALENDAR
