BEGIN:VCALENDAR
VERSION:2.0
PRODID:-//ChamberMaster//Event Calendar 2.0//EN
METHOD:PUBLISH
X-PUBLISHED-TTL:P3D
REFRESH-INTERVAL:P3D
CALSCALE:GREGORIAN
BEGIN:VEVENT
DTSTART:20140624T040000Z
DTEND:20140624T070000Z
X-MICROSOFT-CDO-ALLDAYEVENT:FALSE
SUMMARY:Young Widows ft. White Reaper
DESCRIPTION:Disregarding all boundaries and pushing forward with a masterful command of post-punk\, noise rock\, pseudo industrial\, experimental doom\, and goth\, Young Widows emit the intimidating force of a 10-piece with the heart and soul of a classic power trio. White Reaper is a 3 piece Rock & Roll outfit\; RIYL Jeff the Brotherhood\, Thee Oh Sees\, Wavves.
X-ALT-DESC;FMTTYPE=text/html:Disregarding all boundaries and pushing forward with a masterful command of post-punk\, noise rock\, pseudo industrial\, experimental doom\, and goth\, Young Widows emit the intimidating force of a 10-piece with the heart and soul of a classic power trio. White Reaper is a 3 piece Rock &amp\; Roll outfit\; RIYL Jeff the Brotherhood\, Thee Oh Sees\, Wavves.
LOCATION:Main Street Studios(207 W Main St. Walla Walla\, WA\, 99362)
UID:e.65.1830
SEQUENCE:3
DTSTAMP:20260421T194514Z
URL:https://business.wwvchamber.com/events/details/young-widows-ft-white-reaper-06-23-2014-1830
END:VEVENT

END:VCALENDAR
