BEGIN:VCALENDAR
VERSION:2.0
PRODID:-//ChamberMaster//Event Calendar 2.0//EN
METHOD:PUBLISH
X-PUBLISHED-TTL:P3D
REFRESH-INTERVAL:P3D
CALSCALE:GREGORIAN
BEGIN:VEVENT
DTSTART:20140520T210000Z
DTEND:20140520T210000Z
X-MICROSOFT-CDO-ALLDAYEVENT:FALSE
SUMMARY:Your Dreams\, Your Legacy - Free Seminar
DESCRIPTION:Come join us for a free seminar with information about reducing taxes\, providing for your heirs\, avoiding probate and estate taxes\, and more. Presented as a service to residents of the Walla Walla Valley and their friends by the Walla Walla General Hospital Foundation.
X-ALT-DESC;FMTTYPE=text/html:Come join us for a free seminar with information about reducing taxes\, providing for your heirs\, avoiding probate and estate taxes\, and more. Presented as a service to residents of the Walla Walla Valley and their friends by the Walla Walla General Hospital Foundation.
LOCATION:Wheatland Village - Board Room 1500 Catherine Street
UID:e.65.1748
SEQUENCE:3
DTSTAMP:20260421T211406Z
URL:https://business.wwvchamber.com/events/details/your-dreams-your-legacy-free-seminar-05-20-2014-1748
END:VEVENT

END:VCALENDAR
