BEGIN:VCALENDAR
VERSION:2.0
PRODID:-//ChamberMaster//Event Calendar 2.0//EN
METHOD:PUBLISH
X-PUBLISHED-TTL:P3D
REFRESH-INTERVAL:P3D
CALSCALE:GREGORIAN
BEGIN:VEVENT
DTSTART:20140315T180000Z
DTEND:20140315T233000Z
X-MICROSOFT-CDO-ALLDAYEVENT:FALSE
SUMMARY:Zinfandel vs Primitivo Comparative Tasting
DESCRIPTION:Join us @ Forgeron Cellars' Downtown Walla Walla Winery & Tasting Room for a fun & casual come-&-go Comparative Tasting to learn about winemaker Marie-Eve?s 2 favorite Italian-style varietals. Learn which is YOUR favorite! Primitivo is a lesser-known varietal closely related to the Zinfandel grape\, but the wines they produce have very distinct differences. The fruit character of Primitivo is less jammy and the structure is more similar to Old World wines\, with rustic notes of earth and spice\, as well as tamed fruit flavors. Washington Zinfandel is a classical version of red Zinfandel\, bursting with juicy\, fruity aromas and licorice spice\, followed by cracked pepper and clove as well rich cherry jam characteristics on the palate with clean slate and mineral flavors from backed up by a variety of spices including white pepper\, nutmeg and cinnamon. Being genetic twins ?separated at birth? these 2 varietals are so similar yet so different ? the fun is trying to tell them apart!
X-ALT-DESC;FMTTYPE=text/html:Join us @ Forgeron Cellars&#39\; Downtown Walla Walla Winery &amp\; Tasting Room for a fun &amp\; casual come-&amp\;-go Comparative Tasting to learn about winemaker Marie-Eve?s 2 favorite Italian-style varietals. Learn which is YOUR favorite! Primitivo is a lesser-known varietal closely related to the Zinfandel grape\, but the wines they produce have very distinct differences. The fruit character of Primitivo is less jammy and the structure is more similar to Old World wines\, with rustic notes of earth and spice\, as well as tamed fruit flavors. Washington Zinfandel is a classical version of red Zinfandel\, bursting with juicy\, fruity aromas and licorice spice\, followed by cracked pepper and clove as well rich cherry jam characteristics on the palate with clean slate and mineral flavors from backed up by a variety of spices including white pepper\, nutmeg and cinnamon. Being genetic twins ?separated at birth? these 2 varietals are so similar yet so different ? the fun is trying to tell them apart!
LOCATION:Forgeron Cellars - 33 West Birch St\, Walla Walla\, WA 99362
UID:e.65.1635
SEQUENCE:3
DTSTAMP:20260422T003801Z
URL:https://business.wwvchamber.com/events/details/zinfandel-vs-primitivo-comparative-tasting-03-15-2014-1635
END:VEVENT

END:VCALENDAR
